BEGIN:VCALENDAR
VERSION:2.0
PRODID:-//Intand Corporation//Tandem//EN
METHOD:PUBLISH
BEGIN:VEVENT
DTSTAMP:20260423T134025Z
DTSTART:20200313T220000Z
DTEND:20200314T020000Z
TRANSP:TRANSPARENT
PRIORITY:0
SUMMARY:Region Varsity Soccer vs. Pebblebrook
LOCATION:Football Stadium
DESCRIPTION:3/13  Pebbelbrook @ Wheeler  GV- 5:55  BV- 7:55\n\nGroups:\nSo
 ccer- Girls\nSoccer-Boys\n\nLocation:\nFootball Stadium\n\n
X-ALT-DESC;FMTTYPE=text/html:<!doctype html><html><body><span>3/13 </span>
  <span>Pebbelbrook @ Wheeler</span> <span> GV- 5:55 </span> <span>BV- 7:55
 </span><br /><br />Groups:<br />Soccer- Girls<br />Soccer-Boys<br /><br />
 Location:<br />Football Stadium<br /></body></html>
URL;VALUE=URI:http://wheelerhigh.tandem.co/index.php?type=view&action=even
 t&id=3420
CREATED:20190503T195039Z
LAST-MODIFIED:20200115T214139Z
UID:event_request-3420-wheelerhigh@intand.com
END:VEVENT
END:VCALENDAR
